BEGIN:VCALENDAR
VERSION:2.0
PRODID:-//185.159.123.135//NONSGML kigkonsult.se iCalcreator 2.20//
CALSCALE:GREGORIAN
METHOD:PUBLISH
X-WR-TIMEZONE:UTC
BEGIN:VEVENT
UID:event478@TSV Heinsheim 1911 e.V.
DTSTAMP:20260423T152502Z
CATEGORIES:Abt. Fußball
DESCRIPTION:Fußball KrL. A2-RES: SC Dahenfeld II - TSV II\nKategorie: Abt. 
 Fußball\nICS-Link: https://tsv-heinsheim.de/index.php?option=com_jem&view=
 event&id=478:fussball-krl-a2-res-sc-dahenfeld-tsv-ii\n
DTSTART:20220918T130000Z
DTEND:20220918T130000Z
LOCATION:SC Dahenfeld\,Erlenbacher Straße\,74172 Neckarsulm-Dahenfeld
SUMMARY:Fußball KrL. A2-RES: SC Dahenfeld II - TSV II
URL:https://tsv-heinsheim.de/index.php?option=com_jem&view=event&id=478:fus
 sball-krl-a2-res-sc-dahenfeld-tsv-ii
END:VEVENT
END:VCALENDAR
